BEGIN:VCALENDAR
VERSION:2.0
PRODID:-//ChamberMaster//Event Calendar 2.0//EN
METHOD:PUBLISH
X-PUBLISHED-TTL:P3D
REFRESH-INTERVAL:P3D
CALSCALE:GREGORIAN
BEGIN:VEVENT
DTSTART:20260425T170000Z
DTEND:20260425T220000Z
X-MICROSOFT-CDO-ALLDAYEVENT:FALSE
SUMMARY:Wine Tasting and Live Acoustic Music by Courtney Marie| Anna\, TX
DESCRIPTION:FREE ENTRY TICKETS\n\nTucked away in the peaceful Texas countryside in Anna\, BarnHill Vineyards offers more than just a location   it's an immersive experience. Envision yourself sipping some Texas wine surrounded by beautiful countryside\, our amiable resident horses & donkeys\, and our rustic wood barn.\n\nThere is no fee for entry or parking for this daytime LIVE MUSIC event.\n\nJoin us for an afternoon of...\n\n\n	Live music by Courtney Marie will begin at 12:30 pm and continue until 4:30 pm.\n	Chef Dnoir Cajun Cuisine\, one of our great food truck partners\, will be here for those who come hungry\n	Wine will be available for purchase by the glass\, bottle or flight for tasting. Our wine menu is available on our website: https://www.barnhillvineyards.com/wine-menu\n\n\nChildren are welcome\, but since we are are working farm we ask that they stay by your side at all times.\n\nWe are a 100% non smoking/vaping venue. We do take fire safety very seriously. Thank you for your understanding.\n\nWe promote an incredibly responsible Texas wine drinking experience in a fantastic country setting and yes\, we still let our hair down a bit! We'd love for you to share this daytime live music event with your friends and help us get the word out about our small family business.\n\nIn His Grip!\n\nSteven and Corey Neuner
X-ALT-DESC;FMTTYPE=text/html:<p>FREE ENTRY TICKETS</p>\n\n<p>Tucked away in the peaceful Texas countryside in Anna\, BarnHill Vineyards offers more than just a location &ndash\; it&#39\;s an immersive experience. Envision yourself sipping some Texas wine surrounded by beautiful countryside\, our amiable resident horses &amp\; donkeys\, and our rustic wood barn.</p>\n\n<p>There is no fee for entry or parking for this daytime LIVE MUSIC event.</p>\n\n<p>Join us for an afternoon of...</p>\n\n<ul>\n	<li><strong><strong>Live music by </strong></strong><strong><strong>Courtney Marie</strong></strong><strong><strong> </strong></strong>will begin at 12:30 pm and continue until 4:30 pm.</li>\n	<li><strong><strong>Chef Dnoir Cajun Cuisine</strong></strong><strong><strong>\,</strong></strong> one of our great food truck partners\, will be here for those who come hungry</li>\n	<li>Wine will be available for purchase by the glass\, bottle or flight for tasting. Our wine menu is available on our website: <a href="https://www.barnhillvineyards.com/wine-menu" rel="nofollow noopener noreferrer ugc" target="_blank" title="https://www.barnhillvineyards.com/wine-menu">https://www.barnhillvineyards.com/wine-menu</a></li>\n</ul>\n\n<p>Children are welcome\, but since we are are working farm we ask that they <strong><strong>stay by your side at all times</strong></strong>.</p>\n\n<p>We are a 100% non smoking/vaping venue. We do take fire safety very seriously. Thank you for your understanding.</p>\n\n<p>We promote an incredibly responsible Texas wine drinking experience in a fantastic country setting and yes\, we still let our hair down a bit! We&#39\;d love for you to share this daytime live music event with your friends and help us get the word out about our small family business.</p>\n\n<p>In His Grip!</p>\n\n<p>Steven and Corey Neuner</p>\n
LOCATION:BarnHill Vineyards 11917 Co Rd 509\, Anna\, TX 75409
UID:e.2435.2698
SEQUENCE:3
DTSTAMP:20260419T160810Z
URL:https://business.prosperchamber.com/events/details/wine-tasting-and-live-acoustic-music-by-courtney-marie-anna-tx-04-25-2026-2698
END:VEVENT

END:VCALENDAR
