BEGIN:VCALENDAR
VERSION:2.0
PRODID:-//ChamberMaster//Event Calendar 2.0//EN
METHOD:PUBLISH
X-PUBLISHED-TTL:P3D
REFRESH-INTERVAL:P3D
CALSCALE:GREGORIAN
BEGIN:VEVENT
DTSTART:20240618T163000Z
DTEND:20240618T180000Z
X-MICROSOFT-CDO-ALLDAYEVENT:FALSE
SUMMARY:Ladies In Leadership
DESCRIPTION:Join us as Lockhart Matter Dermatology presents on all things skin care.  Dr. Kyle Owens will guide us through the benefits and proper use of skincare products\, toxins\, and fillers. He will discuss the benefits of correct usage\, what to look for in procedures\, potential issues from application and the differences between the various types of toxins and fillers.  Join us for the opportunity to deepen your knowledge and make informed decisions about your skin health.
X-ALT-DESC;FMTTYPE=text/html:Join us as Lockhart Matter Dermatology presents on all things skin care.&nbsp\; Dr. Kyle Owens will guide us through the benefits and proper use of skincare products\, toxins\, and fillers. He will discuss the benefits of correct usage\, what to look for in procedures\, potential issues from application and the differences between the various types of toxins and fillers.&nbsp\; Join us for the opportunity to deepen your knowledge and make informed decisions about your skin health.
LOCATION:Longo Toyota 2000 W University Dr Prosper\, TX 75078
UID:e.2435.2046
SEQUENCE:3
DTSTAMP:20260421T104156Z
URL:https://business.prosperchamber.com/events/details/ladies-in-leadership-06-18-2024-2046
END:VEVENT

END:VCALENDAR
