BEGIN:VCALENDAR
VERSION:2.0
PRODID:-//ChamberMaster//Event Calendar 2.0//EN
METHOD:PUBLISH
X-PUBLISHED-TTL:P3D
REFRESH-INTERVAL:P3D
CALSCALE:GREGORIAN
BEGIN:VEVENT
DTSTART;VALUE=DATE:20260922
DTEND;VALUE=DATE:20260923
TRANSP:TRANSPARENT
X-MICROSOFT-CDO-ALLDAYEVENT:TRUE
SUMMARY:GEM Conference
DESCRIPTION:Save the date
X-ALT-DESC;FMTTYPE=text/html:Save the date
LOCATION:
UID:e.2435.2785
SEQUENCE:3
DTSTAMP:20260423T042118Z
URL:http://business.prosperchamber.com/events/details/gem-conference-2785
END:VEVENT

END:VCALENDAR
