BEGIN:VCALENDAR
VERSION:2.0
PRODID:-//ChamberMaster//Event Calendar 2.0//EN
METHOD:PUBLISH
X-PUBLISHED-TTL:P3D
REFRESH-INTERVAL:P3D
CALSCALE:GREGORIAN
BEGIN:VEVENT
DTSTART:20260526T123000Z
DTEND:20260526T140000Z
X-MICROSOFT-CDO-ALLDAYEVENT:FALSE
SUMMARY:Cultivate
DESCRIPTION:Cultivate is our twice-monthly networking opportunity designed to help professionals build meaningful connections in a relaxed\, welcoming environment. Whether you're growing your business\, expanding your reach\, or simply looking to connect with others in the community\, Cultivate creates space for relationships that matter. Join us to share your story\, learn about others\, and grow alongside local leaders.\n\n\n\nAt this Cultivate\, you will have the opportunity to share your 30 second commercial with other attendees\, giving them the opportunity to know you and learn about your business. Doors open at 7:30\, program starts at 7:45. Bring your business cards and join us for a great morning of networking.
X-ALT-DESC;FMTTYPE=text/html:<span style="font-family: arial\; font-size: 14px\;">Cultivate is our twice-monthly networking opportunity designed to help professionals build meaningful connections in a relaxed\, welcoming environment. Whether you&rsquo\;re growing your business\, expanding your reach\, or simply looking to connect with others in the community\, Cultivate creates space for relationships that matter. Join us to share your story\, learn about others\, and grow alongside local leaders.</span><br />\n<br />\nAt this Cultivate\, you will have the opportunity to share your 30 second commercial with other attendees\, giving them the opportunity to know you and learn about your business. Doors open at 7:30\, program starts at 7:45. Bring your business cards and join us for a great morning of networking.
LOCATION:
UID:e.2435.2709
SEQUENCE:3
DTSTAMP:20260420T194154Z
URL:http://business.prosperchamber.com/events/details/cultivate-2709
END:VEVENT

END:VCALENDAR
